BEGIN:VCALENDAR
VERSION:2.0
PRODID:-//Educare Lake County - ECPv6.15.20//NONSGML v1.0//EN
CALSCALE:GREGORIAN
METHOD:PUBLISH
X-WR-CALNAME:Educare Lake County
X-ORIGINAL-URL:https://educarelakecounty.org
X-WR-CALDESC:Events for Educare Lake County
REFRESH-INTERVAL;VALUE=DURATION:PT1H
X-Robots-Tag:noindex
X-PUBLISHED-TTL:PT1H
BEGIN:VTIMEZONE
TZID:UTC
BEGIN:STANDARD
TZOFFSETFROM:+0000
TZOFFSETTO:+0000
TZNAME:UTC
DTSTART:20250101T000000
END:STANDARD
END:VTIMEZONE
BEGIN:VEVENT
DTSTART;VALUE=DATE:20260511
DTEND;VALUE=DATE:20260512
DTSTAMP:20260422T131113
CREATED:20260218T231500Z
LAST-MODIFIED:20260218T232057Z
UID:481-1778457600-1778543999@educarelakecounty.org
SUMMARY:Educare Lake County Groundbreaking
DESCRIPTION:
URL:https://educarelakecounty.org/event/educare-lake-county-groundbreaking/
ATTACH;FMTTYPE=image/avif:https://educarelakecounty.org/wp-content/uploads/2026/02/StartEarly2025-whoweare.avif
END:VEVENT
BEGIN:VEVENT
DTSTART;VALUE=DATE:20260525
DTEND;VALUE=DATE:20260526
DTSTAMP:20260422T131113
CREATED:20260218T234241Z
LAST-MODIFIED:20260221T001855Z
UID:491-1779667200-1779753599@educarelakecounty.org
SUMMARY:Memorial Day - No School
DESCRIPTION:
URL:https://educarelakecounty.org/event/memorial-day-no-school/
CATEGORIES:Holidays,School Closure
ATTACH;FMTTYPE=image/webp:https://educarelakecounty.org/wp-content/uploads/2026/02/StartEarly2025-2576-copy-scaled.webp
END:VEVENT
BEGIN:VEVENT
DTSTART;VALUE=DATE:20260619
DTEND;VALUE=DATE:20260620
DTSTAMP:20260422T131113
CREATED:20260218T234550Z
LAST-MODIFIED:20260221T001855Z
UID:495-1781827200-1781913599@educarelakecounty.org
SUMMARY:Juneteenth - No School
DESCRIPTION:
URL:https://educarelakecounty.org/event/juneteenth-no-school/
CATEGORIES:Holidays,School Closure
ATTACH;FMTTYPE=image/avif:https://educarelakecounty.org/wp-content/uploads/2026/02/about-carousel2-Custom.avif
END:VEVENT
BEGIN:VEVENT
DTSTART;VALUE=DATE:20260704
DTEND;VALUE=DATE:20260705
DTSTAMP:20260422T131113
CREATED:20260218T234420Z
LAST-MODIFIED:20260221T001854Z
UID:493-1783123200-1783209599@educarelakecounty.org
SUMMARY:Independence Day - No School
DESCRIPTION:
URL:https://educarelakecounty.org/event/independence-day-no-school/
CATEGORIES:Holidays,School Closure
ATTACH;FMTTYPE=image/avif:https://educarelakecounty.org/wp-content/uploads/2026/02/StartEarly2025-2610.avif
END:VEVENT
BEGIN:VEVENT
DTSTART;VALUE=DATE:20260907
DTEND;VALUE=DATE:20260908
DTSTAMP:20260422T131113
CREATED:20260218T233435Z
LAST-MODIFIED:20260221T001854Z
UID:485-1788739200-1788825599@educarelakecounty.org
SUMMARY:Labor Day - No School
DESCRIPTION:
URL:https://educarelakecounty.org/event/labor-day-no-school/
CATEGORIES:Holidays,School Closure
ATTACH;FMTTYPE=image/webp:https://educarelakecounty.org/wp-content/uploads/2026/02/StartEarly2025-2054-copy-scaled.webp
END:VEVENT
BEGIN:VEVENT
DTSTART;VALUE=DATE:20260926
DTEND;VALUE=DATE:20260928
DTSTAMP:20260422T131113
CREATED:20260218T233824Z
LAST-MODIFIED:20260221T001854Z
UID:487-1790380800-1790553599@educarelakecounty.org
SUMMARY:Thanksgiving Break - No School
DESCRIPTION:
URL:https://educarelakecounty.org/event/thanksgiving-break-no-school/
CATEGORIES:Holidays,School Closure
ATTACH;FMTTYPE=image/avif:https://educarelakecounty.org/wp-content/uploads/2026/02/about-carousel3-Custom.avif
END:VEVENT
END:VCALENDAR